BEGIN:VCALENDAR
VERSION:2.0
PRODID:-//wp-events-plugin.com//6.6.3//EN
TZID:America/Phoenix
X-WR-TIMEZONE:America/Phoenix
BEGIN:VEVENT
UID:61@senahigh.com
DTSTART;TZID=America/Phoenix;VALUE=DATE:20260526
DTEND;TZID=America/Phoenix;VALUE=DATE:20260530
DTSTAMP:20250704T221438Z
URL:https://senahigh.com/events/finals-week-3/
SUMMARY:Finals Week
DESCRIPTION:
END:VEVENT
BEGIN:VTIMEZONE
TZID:America/Phoenix
X-LIC-LOCATION:America/Phoenix
BEGIN:STANDARD
DTSTART:20250526T000000
TZOFFSETFROM:-0700
TZOFFSETTO:-0700
TZNAME:MST
END:STANDARD
END:VTIMEZONE
END:VCALENDAR